BEGIN:VCALENDAR
VERSION:2.0
PRODID:-//Dill Hunsrück - ECPv6.15.20//NONSGML v1.0//EN
CALSCALE:GREGORIAN
METHOD:PUBLISH
X-ORIGINAL-URL:https://dill-hunsrueck.de
X-WR-CALDESC:Veranstaltungen für Dill Hunsrück
REFRESH-INTERVAL;VALUE=DURATION:PT1H
X-Robots-Tag:noindex
X-PUBLISHED-TTL:PT1H
BEGIN:VTIMEZONE
TZID:UTC
BEGIN:STANDARD
TZOFFSETFROM:+0000
TZOFFSETTO:+0000
TZNAME:UTC
DTSTART:20240101T000000
END:STANDARD
END:VTIMEZONE
BEGIN:VEVENT
DTSTART;TZID=UTC:20250713T173000
DTEND;TZID=UTC:20250713T230000
DTSTAMP:20260421T201830
CREATED:20250703T173836Z
LAST-MODIFIED:20250703T173857Z
UID:11033-1752427800-1752447600@dill-hunsrueck.de
SUMMARY:Pop\, Rock und Country mit der Band Extra Dry
DESCRIPTION:Burgkonzert in Dill \n  \nAm Sonntag\, 13. Juli 18.00 Uhr lädt der Kulturverein Arena 13 in Kooperation mit dem Freundeskreis der Burg Dill zum Konzert der Band Extra Dry in das einmalige Ambiente der Diller Burg ein. Im Rahmen der Diller Burgkonzerte können sich die Besucher auf einen schwungvollen Abend mit akustischer Musik aus den Bereichen Pop\, Rock und Country freuen\, präsentiert von den fünf erfahrenen Hunsrücker Musikerinnen und Musikern. \nDie Gruppe Extra Dry bringt seit vielen Jahren ihre Leidenschaft für handgemachte Musik bei verschiedensten Anlässen zum Ausdruck. Mit ihrem vielseitigen Repertoire\, das mit Gitarren\, Bass\, Akkordeon\, Saxophon\, Mundharmonika\, Klarinette\, Mandoline und Percussion arrangiert ist\, schaffen sie ein abwechslungsreiches Klangbild. Auch der mehrstimmige Gesang ist immer wieder ein Highlight dieser Formation. Seit über zehn Jahren treten sie gemeinsam auf und begeistern das Publikum mit ihrer Spielfreude. \nErleben Sie einen schönen Abend voller kraftvoller\, akustischer Musik und genießen Sie die besondere Atmosphäre der Diller Burg. \n  \nKarten gibt es für 12\,00 € im Schuhhaus Kastner in Kirchberg und in der Bäckerei Hottenbacher in Sohren sowie an der Abendkasse. \nKartenvorverkauf ab 23.06.2025 \nEinlass um 17:30 Uhr
URL:https://dill-hunsrueck.de/event/pop-rock-und-country-mit-der-band-extra-dry/
END:VEVENT
BEGIN:VEVENT
DTSTART;TZID=UTC:20250620T190000
DTEND;TZID=UTC:20250622T200000
DTSTAMP:20260421T201830
CREATED:20240424T082926Z
LAST-MODIFIED:20240424T083011Z
UID:10588-1750446000-1750622400@dill-hunsrueck.de
SUMMARY:2. Historiches Ritterturnier zu Dill
DESCRIPTION:  \n \nMit Lager und Markt
URL:https://dill-hunsrueck.de/event/2-historiches-ritterturnier-zu-dill/
END:VEVENT
BEGIN:VEVENT
DTSTART;TZID=UTC:20250308T200000
DTEND;TZID=UTC:20250308T220000
DTSTAMP:20260421T201830
CREATED:20250223T184908Z
LAST-MODIFIED:20250223T185023Z
UID:10958-1741464000-1741471200@dill-hunsrueck.de
SUMMARY:Aschersamstagskonzert Manfred Häder und Bänd
DESCRIPTION:
URL:https://dill-hunsrueck.de/event/aschersamstagskonzert-haeder-baend/
LOCATION:Dorfgemeinschaftshaus\, Dorfstraße\, Dill\, 55487\, Deutschland
END:VEVENT
END:VCALENDAR